BEGIN:VCALENDAR
VERSION:2.0
PRODID:spatie/icalendar-generator
DESCRIPTION:Veranstaltungen von Marc Schemmel
X-WR-CALDESC:Veranstaltungen von Marc Schemmel
REFRESH-INTERVAL;VALUE=DURATION:PT1440M
X-PUBLISHED-TTL:PT1440M
BEGIN:VTIMEZONE
TZID:Europe/Berlin
BEGIN:STANDARD
DTSTART:20231029T030000Z
TZOFFSETFROM:+0200
TZOFFSETTO:+0100
END:STANDARD
BEGIN:DAYLIGHT
DTSTART:20240331T020000Z
TZOFFSETFROM:+0100
TZOFFSETTO:+0200
END:DAYLIGHT
END:VTIMEZONE
BEGIN:VTIMEZONE
TZID:UTC
BEGIN:STANDARD
DTSTART:20250725T140734Z
TZOFFSETFROM:+0000
TZOFFSETTO:+0000
END:STANDARD
END:VTIMEZONE
BEGIN:VEVENT
UID:316-308
DTSTAMP:20260421T140734Z
SUMMARY:\"Mehr Zuversicht wagen\" Kultursenator Carsten Brosda im Gespräch
LOCATION:Verheißungskirche Sachsenweg 2  Hamburg  22455
ORGANIZER;CN=Marc Schemmel:MAILTO:mail@marc-schemmel.de
DTSTART;TZID=Europe/Berlin:20240416T193000
DTEND;TZID=Europe/Berlin:20240416T203000
X-ALT-DESC;FMTTYPE=TEXT/HTML:Am Dienstagabend\, 16. April\, ist unser Kultu
 rsenator Carsten Brosda zu Gast in unserem Wahlkreis. Er wird in der Niend
 orfer Verheißungskirche am Sachsenweg sein jüngstes Buch \"Mehr Zuversic
 ht wagen\" vorstellen und sich auch darüber mit dem Publikum austauschen.
  Carsten Brosda berichtet in dem Buch witzig\, selbstironisch und immer wi
 eder anrührend von seiner Familie und seinem Werdegang:&amp;hellip\;
CATEGORIES:General
URL;VALUE=URI:https://www.marc-schemmel.de/mc-events/mehr-zuversicht-wagen-
 kultursenator-carsten-brosda-im-gespraech/
METHOD:PUBLISH
END:VEVENT
END:VCALENDAR